BEGIN:VCALENDAR
VERSION:2.0
PRODID:-//Friends of Max - ECPv6.15.20//NONSGML v1.0//EN
CALSCALE:GREGORIAN
METHOD:PUBLISH
X-WR-CALNAME:Friends of Max
X-ORIGINAL-URL:https://friendsofmax.info
X-WR-CALDESC:Events for Friends of Max
REFRESH-INTERVAL;VALUE=DURATION:PT1H
X-Robots-Tag:noindex
X-PUBLISHED-TTL:PT1H
BEGIN:VTIMEZONE
TZID:Asia/Kolkata
BEGIN:STANDARD
TZOFFSETFROM:+0530
TZOFFSETTO:+0530
TZNAME:IST
DTSTART:20240101T000000
END:STANDARD
END:VTIMEZONE
BEGIN:VTIMEZONE
TZID:UTC
BEGIN:STANDARD
TZOFFSETFROM:+0000
TZOFFSETTO:+0000
TZNAME:UTC
DTSTART:20150101T000000
END:STANDARD
END:VTIMEZONE
BEGIN:VEVENT
DTSTART;TZID=Asia/Kolkata:20250426T090000
DTEND;TZID=Asia/Kolkata:20250426T160000
DTSTAMP:20260421T153752
CREATED:20250401T001322Z
LAST-MODIFIED:20250401T063339Z
UID:11293-1745658000-1745683200@friendsofmax.info
SUMMARY:CML & GIST Patient Support Group Meeting\, Patna
DESCRIPTION:
URL:https://friendsofmax.info/event/cml-gist-patient-support-group-meeting-patna/
CATEGORIES:CML Meet,GIST Meet
END:VEVENT
BEGIN:VEVENT
DTSTART;TZID=UTC:20230603T090000
DTEND;TZID=UTC:20230603T160000
DTSTAMP:20260421T153752
CREATED:20230525T055342Z
LAST-MODIFIED:20240815T103949Z
UID:6681-1685782800-1685808000@friendsofmax.info
SUMMARY:Patient Support group meet\, Mumbai
DESCRIPTION:The Max Foundation and Friends of Max will be organizing a Support Group meeting for CML and GIST patients and caregivers in Mumbai.\nRequest all those in and around the city to join us and make this meeting a success! \nDate: Saturday\, 3rd June\, 2023\nVenue: Tata Memorial Hospital\, Mumbai\nRustom Choksi Auditorium\, 2nd Floor\, Golden Jubilee Building\, Tata Memorial Hospital\, Parel\, Mumbai 400012\nTiming: 9.00 am to 4.00 pm \nWe are thankful to patient Devasurya from Kerala\, for this amazing artwork featured on the meeting banner.
URL:https://friendsofmax.info/event/%f0%9f%8e%89announcement-%f0%9f%8e%89/
LOCATION:Tata Memorial Hospital Parel Mumbai\, Dr E Borges Road\, Parel\, Mumbai\, Maharashtra\, India
CATEGORIES:CML Meet,GIST Meet
ATTACH;FMTTYPE=image/jpeg:https://friendsofmax.info/home/wp-content/uploads/2023/05/New-MUMBAI-meet-banner-3x6-feet-op-1-1-2.jpg
END:VEVENT
BEGIN:VEVENT
DTSTART;TZID=UTC:20220605T090000
DTEND;TZID=UTC:20220605T160000
DTSTAMP:20260421T153752
CREATED:20220531T051427Z
LAST-MODIFIED:20240816T004024Z
UID:6090-1654419600-1654444800@friendsofmax.info
SUMMARY:Patient Support Group Meeting\, Mumbai
DESCRIPTION:
URL:https://friendsofmax.info/event/6090/
LOCATION:Tata Memorial Hospital Parel Mumbai\, Dr E Borges Road\, Parel\, Mumbai\, Maharashtra\, India
CATEGORIES:CML Meet,GIST Meet
END:VEVENT
BEGIN:VEVENT
DTSTART;TZID=UTC:20201128T160000
DTEND;TZID=UTC:20201128T180000
DTSTAMP:20260421T153752
CREATED:20201127T004223Z
LAST-MODIFIED:20201127T004223Z
UID:4266-1606579200-1606586400@friendsofmax.info
SUMMARY:Patient Support Group Meeting
DESCRIPTION:Join us on Zoom- \n  \n 
URL:https://friendsofmax.info/event/patient-support-group-meeting-2/
LOCATION:Virtual
CATEGORIES:CML Meet,FOM Meet,GIST Meet
ATTACH;FMTTYPE=image/jpeg:https://friendsofmax.info/home/wp-content/uploads/2020/11/2-NCR-UTTERPARDESH-Virtual-Meet-banner-1280x720-1.jpg
END:VEVENT
BEGIN:VEVENT
DTSTART;TZID=UTC:20201031T160000
DTEND;TZID=UTC:20201031T180000
DTSTAMP:20260421T153752
CREATED:20200930T015019Z
LAST-MODIFIED:20201127T003824Z
UID:4185-1604160000-1604167200@friendsofmax.info
SUMMARY:Virtual Patient Support Group
DESCRIPTION:
URL:https://friendsofmax.info/event/virtual-patient-support-group/
LOCATION:Virtual
CATEGORIES:CML Meet,FOM Meet,GIST Meet
END:VEVENT
BEGIN:VEVENT
DTSTART;TZID=UTC:20190920T090000
DTEND;TZID=UTC:20190920T140000
DTSTAMP:20260421T153752
CREATED:20190820T035612Z
LAST-MODIFIED:20190824T023801Z
UID:2790-1568970000-1568988000@friendsofmax.info
SUMMARY:Jaipur- Patient Support Group Meeting
DESCRIPTION:Announcement of the Jaipur Patient Support Group Meeting on 20th September 2019 at Mahatma Gandhi Memorial College.
URL:https://friendsofmax.info/event/patient-support-group-meeting-jaipur/
LOCATION:Mahatma Gandhi Memorial College\, Sitapura\, Jaipur\, Mahatma Gandhi Memorial college\, Jaipur\, India
CATEGORIES:CML Meet,GIST Meet
END:VEVENT
BEGIN:VEVENT
DTSTART;TZID=UTC:20190913T100000
DTEND;TZID=UTC:20190913T130000
DTSTAMP:20260421T153752
CREATED:20190820T031100Z
LAST-MODIFIED:20190820T032116Z
UID:2787-1568368800-1568379600@friendsofmax.info
SUMMARY:Hyderabad - Patient support group meeting
DESCRIPTION:Together we Share and Learn \nThe Max Foundation & Friends of Max in association with Basavatarakam Indo American Cancer Hospital invite CML & GIST survivors and caregivers to a patient support group meeting in Hyderabad meeting in the Indo- American Cancer Hospital. \nDate: September 13 @ 10:00 AM – 1:00 PM \nAuditorium\, 4th Floor\, Block No-2\, Basavatarakam Indo American Cancer Hospital\, Road No. 10\, Banjara Hills\, Hyderabad\, Telangana\, 500034 \nRSVP\nFriends of Max – Hyderabad\nPramod Agarwal: 9885129539\nVicky Vatnani – 9866001100 \nThe Max Foundation\nMumbai – 022-66603320 / 21\nSudha S (Hyderabad) – 9959812346
URL:https://friendsofmax.info/event/patient-support-group-meeting/
LOCATION:Auditorium 4th Floor\, Block -2\, Basavatarakam Indo American Cancer Hospital\, Road No 14\, Banjara Hills\, Hyderabad\, Telangana\, 500034\, India
CATEGORIES:CML Meet,GIST Meet
ATTACH;FMTTYPE=image/jpeg:https://friendsofmax.info/home/wp-content/uploads/2019/08/Patient-Support-Group-Meeting-Hyderabad-13th-September-2019-page-001.jpg
END:VEVENT
BEGIN:VEVENT
DTSTART;TZID=UTC:20190406T090000
DTEND;TZID=UTC:20190406T143000
DTSTAMP:20260421T153752
CREATED:20190311T000604Z
LAST-MODIFIED:20190311T000604Z
UID:2445-1554541200-1554561000@friendsofmax.info
SUMMARY:Patient Support Group Meeting @ Indore
DESCRIPTION:
URL:https://friendsofmax.info/event/patient-support-group-meeting-indore/
LOCATION:Hotel Apsara\, Near Ravindra Natya Grah\, RNT marg\, Opp Central Mall\, Indore\, Madhya Pradesh\, 452001\, India
CATEGORIES:CML Meet,GIST Meet
ATTACH;FMTTYPE=image/jpeg:https://friendsofmax.info/home/wp-content/uploads/2019/03/Anshika-Indore-poster-6-Apr-FB-and-FOM-website.jpg
END:VEVENT
BEGIN:VEVENT
DTSTART;TZID=UTC:20190330T090000
DTEND;TZID=UTC:20190330T170000
DTSTAMP:20260421T153752
CREATED:20190205T060520Z
LAST-MODIFIED:20190205T060520Z
UID:2332-1553936400-1553965200@friendsofmax.info
SUMMARY:Patient Support Group Meeting @ Mangalore
DESCRIPTION:
URL:https://friendsofmax.info/event/patient-support-group-meeting-mangalore/
LOCATION:Mangalore Institute of Oncology\, Pumpwell\, Mangalore\, Karnataka
CATEGORIES:CML Meet,GIST Meet
ATTACH;FMTTYPE=image/jpeg:https://friendsofmax.info/home/wp-content/uploads/2019/02/Mangalore-Meet-30-Mar-Final-poster.jpeg
END:VEVENT
BEGIN:VEVENT
DTSTART;TZID=UTC:20190324T090000
DTEND;TZID=UTC:20190324T160000
DTSTAMP:20260421T153752
CREATED:20190215T032707Z
LAST-MODIFIED:20190215T032810Z
UID:2349-1553418000-1553443200@friendsofmax.info
SUMMARY:Patient Support Group Meeting @Bhubaneswar
DESCRIPTION:
URL:https://friendsofmax.info/event/patient-support-group-meeting-bhubaneswar/
LOCATION:Infosys Ltd Plot No E/4\, Info City\, Patia\, Bhubaneswar\, Orissa\, 751024\, India
CATEGORIES:CML Meet,GIST Meet
ATTACH;FMTTYPE=image/jpeg:https://friendsofmax.info/home/wp-content/uploads/2019/02/Bhubaneswar-Meet-24-Mar.jpg
END:VEVENT
BEGIN:VEVENT
DTSTART;TZID=UTC:20190317T090000
DTEND;TZID=UTC:20190317T160000
DTSTAMP:20260421T153752
CREATED:20190220T054617Z
LAST-MODIFIED:20190220T054619Z
UID:2356-1552813200-1552838400@friendsofmax.info
SUMMARY:Patient Support Group Meeting @ Patna
DESCRIPTION:
URL:https://friendsofmax.info/event/patient-support-group-meeting-patna/
LOCATION:Auditorium\, AIIMS\, Phulwari Sharif\, Patna\, Bihar\, India
CATEGORIES:CML Meet,GIST Meet
ATTACH;FMTTYPE=image/jpeg:https://friendsofmax.info/home/wp-content/uploads/2019/02/Patna-17-March-2019-.jpg
END:VEVENT
BEGIN:VEVENT
DTSTART;TZID=UTC:20190219T090000
DTEND;TZID=UTC:20190219T130000
DTSTAMP:20260421T153752
CREATED:20190120T222849Z
LAST-MODIFIED:20190120T222849Z
UID:2322-1550566800-1550581200@friendsofmax.info
SUMMARY:GIST Support Group Meeting @ Mumbai 19 Feb 2019
DESCRIPTION:
URL:https://friendsofmax.info/event/gist-support-group-meeting-mumbai-19-feb-2019/
LOCATION:Golden Jubilee Bldg 2nd Floor Lecture Hall Rustom Choksi Auditorium Tata Memorial Hospital Mumbai\, Dr E Borges Road\, Parel\, Mumbai\, India
CATEGORIES:GIST Meet
ATTACH;FMTTYPE=image/jpeg:https://friendsofmax.info/home/wp-content/uploads/2019/01/Ameya-GIST-Poster-on-19-Feb.jpg
END:VEVENT
BEGIN:VEVENT
DTSTART;TZID=UTC:20180714T090000
DTEND;TZID=UTC:20180714T150000
DTSTAMP:20260421T153752
CREATED:20180621T042313Z
LAST-MODIFIED:20180621T042313Z
UID:2041-1531558800-1531580400@friendsofmax.info
SUMMARY:Patient Support Group Meeting - Madurai
DESCRIPTION:
URL:https://friendsofmax.info/event/patient-support-group-meeting-madurai/
LOCATION:Auditorium Meenakshi Mission Hospital & Research Centre\, Lake Area\, Melur Road\, Near Mattuthavani Bus Stand\, Madurai\, Tamil Nadu\, 625107\, India
CATEGORIES:CML Meet,GIST Meet
ATTACH;FMTTYPE=image/jpeg:https://friendsofmax.info/home/wp-content/uploads/2018/06/Madurai-14-July-.jpg
END:VEVENT
BEGIN:VEVENT
DTSTART;TZID=UTC:20180708T090000
DTEND;TZID=UTC:20180708T160000
DTSTAMP:20260421T153752
CREATED:20180626T234549Z
LAST-MODIFIED:20180626T234549Z
UID:2053-1531040400-1531065600@friendsofmax.info
SUMMARY:RANCHI MEET: NEW VENUE
DESCRIPTION:
URL:https://friendsofmax.info/event/ranchi-meet-new-venue/
LOCATION:Rajyog Kendra\, East Jail Road\, Opp Nucleus Mall\, Opposite Nucleus Mall\, Ranchi\, 834001\, India
CATEGORIES:CML Meet,GIST Meet
ATTACH;FMTTYPE=image/jpeg:https://friendsofmax.info/home/wp-content/uploads/2018/06/Ranchi-new-venue-.jpg
END:VEVENT
BEGIN:VEVENT
DTSTART;TZID=UTC:20180624T090000
DTEND;TZID=UTC:20180624T160000
DTSTAMP:20260421T153752
CREATED:20180523T223950Z
LAST-MODIFIED:20180523T223950Z
UID:2015-1529830800-1529856000@friendsofmax.info
SUMMARY:Patient Support Group Meeting @ Mumbai
DESCRIPTION:
URL:https://friendsofmax.info/event/patient-support-group-meeting-mumbai/
LOCATION:Tata Memorial Hospital Parel Mumbai\, Rustom Choksi Auditorium\, 2nd Flr Golden Jubilee Bldg\, Dr E Borges Road\, Parel\, Mumbai\, Maharashtra\, 400012\, India
CATEGORIES:CML Meet,GIST Meet
ATTACH;FMTTYPE=image/jpeg:https://friendsofmax.info/home/wp-content/uploads/2018/05/Mumbai-Meet-Poster-24-Jun-Eng-Ameya.jpg
END:VEVENT
BEGIN:VEVENT
DTSTART;TZID=UTC:20180220T000000
DTEND;TZID=UTC:20180220T000000
DTSTAMP:20260421T153752
CREATED:20180220T041221Z
LAST-MODIFIED:20180220T041221Z
UID:1716-1519084800-1519084800@friendsofmax.info
SUMMARY:GIST Patient Support Group Meeting 22 July @ Hyderabad
DESCRIPTION:
URL:https://friendsofmax.info/event/gist-patient-support-group-meeting-22-july-hyderabad/
CATEGORIES:GIST Meet
END:VEVENT
BEGIN:VEVENT
DTSTART;TZID=UTC:20180128T090000
DTEND;TZID=UTC:20180128T160000
DTSTAMP:20260421T153752
CREATED:20180109T011723Z
LAST-MODIFIED:20180109T011723Z
UID:1888-1517130000-1517155200@friendsofmax.info
SUMMARY:Patient Support Group Meeting - Raipur
DESCRIPTION:
URL:https://friendsofmax.info/event/patient-support-group-meeting-raipur/
LOCATION:Vivekananda Auditorium\, Indira Gandhi Krishi Vishwa Vidyalaya Agricultural College\, Krishak Nagar\, Raipur\, Chhattisgarh\, 492012\, India
CATEGORIES:CML Meet,GIST Meet
ATTACH;FMTTYPE=image/jpeg:https://friendsofmax.info/home/wp-content/uploads/2018/01/Raipur-Poster-28-Jan.jpg
END:VEVENT
BEGIN:VEVENT
DTSTART;TZID=UTC:20171119T090000
DTEND;TZID=UTC:20171119T160000
DTSTAMP:20260421T153752
CREATED:20171108T043820Z
LAST-MODIFIED:20171108T043820Z
UID:1834-1511082000-1511107200@friendsofmax.info
SUMMARY:CML & GIST Support Group Meeting Aurangabad 19 Nov 2017
DESCRIPTION:
URL:https://friendsofmax.info/event/cml-gist-support-group-meeting-aurangabad-19-nov-2017/
LOCATION:Indian Medical Association\, IMA House\, Samarth Nagar\, Aurangabad\, Maharashtra\, 431001\, India
CATEGORIES:CML Meet,GIST Meet
ATTACH;FMTTYPE=image/jpeg:https://friendsofmax.info/home/wp-content/uploads/2017/11/AURANGABAD-banner-6x3-op2.jpg
END:VEVENT
BEGIN:VEVENT
DTSTART;TZID=UTC:20170827T093000
DTEND;TZID=UTC:20170827T160000
DTSTAMP:20260421T153752
CREATED:20170802T052117Z
LAST-MODIFIED:20170802T052117Z
UID:1741-1503826200-1503849600@friendsofmax.info
SUMMARY:The Madhya Pradesh Regional Meet
DESCRIPTION:
URL:https://friendsofmax.info/event/the-madhya-pradesh-regional-meet/
CATEGORIES:CML Meet,GIST Meet
ATTACH;FMTTYPE=image/jpeg:https://friendsofmax.info/home/wp-content/uploads/2017/08/Indore-27-Aug.jpg
END:VEVENT
BEGIN:VEVENT
DTSTART;TZID=UTC:20170722T100000
DTEND;TZID=UTC:20170722T130000
DTSTAMP:20260421T153752
CREATED:20170629T230344Z
LAST-MODIFIED:20170629T230344Z
UID:1719-1500717600-1500728400@friendsofmax.info
SUMMARY:GIST Patient Support Group Meeting - Hyderabad
DESCRIPTION:
URL:https://friendsofmax.info/event/gist-patient-support-group-meeting-hyderabad/
LOCATION:Auditorium 4th Floor\, Block -2\, Basavatarakam Indo American Cancer Hospital\, Road No 14\, Banjara Hills\, Hyderabad\, Telangana\, 500034\, India
CATEGORIES:GIST Meet
ATTACH;FMTTYPE=image/jpeg:https://friendsofmax.info/home/wp-content/uploads/2017/06/GIST-Hyd-Sudha-22-July-1.jpg
END:VEVENT
BEGIN:VEVENT
DTSTART;TZID=UTC:20170708T100000
DTEND;TZID=UTC:20170708T130000
DTSTAMP:20260421T153752
CREATED:20170616T005302Z
LAST-MODIFIED:20170616T005302Z
UID:1710-1499508000-1499518800@friendsofmax.info
SUMMARY:GIST Awareness Day 2017: "Patient-Powered H.E.R.O. Campaign"
DESCRIPTION:
URL:https://friendsofmax.info/event/gist-awareness-day-2017-patient-powered-h-e-r-o-campaign/
LOCATION:Tata Memorial Hospital Parel Mumbai\, Rustom Choksi Auditorium\, 2nd Flr Golden Jubilee Bldg\, Dr E Borges Road\, Parel\, Mumbai\, Maharashtra\, 400012\, India
CATEGORIES:GIST Meet
ATTACH;FMTTYPE=image/jpeg:https://friendsofmax.info/home/wp-content/uploads/2017/06/Mumbai-GIST-Meet-poster-8th-July-2017.jpg
END:VEVENT
BEGIN:VEVENT
DTSTART;TZID=UTC:20170507T093000
DTEND;TZID=UTC:20170507T160000
DTSTAMP:20260421T153752
CREATED:20170410T050838Z
LAST-MODIFIED:20170410T050838Z
UID:1656-1494149400-1494172800@friendsofmax.info
SUMMARY:Patient Group Meeting in Mumbai
DESCRIPTION:Mumbai PosterMumbai Poster
URL:https://friendsofmax.info/event/patient-group-meeting-in-mumbai/
LOCATION:Tata Memorial Hospital Parel Mumbai\, Dr E Borges Road\, Parel\, Mumbai\, Maharashtra\, India
CATEGORIES:CML Meet,GIST Meet
END:VEVENT
BEGIN:VEVENT
DTSTART;TZID=UTC:20170409T090000
DTEND;TZID=UTC:20170409T160000
DTSTAMP:20260421T153752
CREATED:20170318T203417Z
LAST-MODIFIED:20170408T000232Z
UID:1626-1491728400-1491753600@friendsofmax.info
SUMMARY:Patient Support Group Meet in Pune
DESCRIPTION:
URL:https://friendsofmax.info/event/patient-support-group-meet-in-pune/
LOCATION:Kelkar Hall Dr. Nitu Mandke IMA House\, 992\, Shukrawar Peth\, Tilak Road\, Pune – 411002\, Dr. Nitu Mandke IMA House\, 992\, Shukrawar Peth\, Tilak Road\, Pune\, Maharashtra\, 411002\, India
CATEGORIES:CML Meet,GIST Meet
END:VEVENT
BEGIN:VEVENT
DTSTART;TZID=UTC:20170218T100000
DTEND;TZID=UTC:20170218T130000
DTSTAMP:20260421T153752
CREATED:20170209T014521Z
LAST-MODIFIED:20170209T014521Z
UID:1593-1487412000-1487422800@friendsofmax.info
SUMMARY:GIST Support Group Meeting at Tata Memorial Hospital (Mumbai)
DESCRIPTION:
URL:https://friendsofmax.info/event/gist-support-group-meeting-at-tata-memorial-hospital-mumbai/
LOCATION:Patient Support Group Meet Sun 7 May 2017 Mumbai\, Dr E Borges Road\, Parel\, Mumbai\, Maharashtra\, 400012\, India
CATEGORIES:GIST Meet
ATTACH;FMTTYPE=image/jpeg:https://friendsofmax.info/home/wp-content/uploads/2017/02/GIST-Meeting-18-Feb-2017.jpg
END:VEVENT
BEGIN:VEVENT
DTSTART;TZID=UTC:20161016T090000
DTEND;TZID=UTC:20161016T160000
DTSTAMP:20260421T153752
CREATED:20160928T004008Z
LAST-MODIFIED:20160928T004033Z
UID:1444-1476608400-1476633600@friendsofmax.info
SUMMARY:FOM Patient Group Meeting: Bikaner (Rajasthan)
DESCRIPTION:
URL:https://friendsofmax.info/event/fom-patient-group-meeting-bikaner-rajasthan/
CATEGORIES:CML Meet,GIST Meet
ATTACH;FMTTYPE=image/jpeg:https://friendsofmax.info/home/wp-content/uploads/2016/09/Bikaner-MLC-Meet-Poster.jpg
END:VEVENT
BEGIN:VEVENT
DTSTART;TZID=UTC:20160922T090000
DTEND;TZID=UTC:20160922T133000
DTSTAMP:20260421T153752
CREATED:20160823T045844Z
LAST-MODIFIED:20160823T050346Z
UID:1356-1474534800-1474551000@friendsofmax.info
SUMMARY:World CML Day - Kolkata
DESCRIPTION:  \nMs. Chandrayee 033 66057624\nMs. Nilanjana 033 66057622
URL:https://friendsofmax.info/event/world-cml-day/
LOCATION:Premashraya Trust\, Plot No -DC / 193 / 1\, Street No 0134\, New Town\, Rajarhat\, \, Kolkata\, West Bengal\, 700156\, India
CATEGORIES:FOM Meet,GIST Meet
ATTACH;FMTTYPE=image/jpeg:https://friendsofmax.info/home/wp-content/uploads/2016/08/Kolkata-World-CML-Day-poster.jpg
END:VEVENT
BEGIN:VEVENT
DTSTART;TZID=UTC:20160709T100000
DTEND;TZID=UTC:20160709T123000
DTSTAMP:20260421T153752
CREATED:20160621T055847Z
LAST-MODIFIED:20160621T055847Z
UID:1285-1468058400-1468067400@friendsofmax.info
SUMMARY:GIST Awareness Day Meet 2016
DESCRIPTION:
URL:https://friendsofmax.info/event/gist-awareness-day-meet-2016/
LOCATION:The Max Foundation\, Secom Business Centre\, Worli\, Mumbai\, Maharashtra\, 400018\, India
CATEGORIES:GIST Meet
ATTACH;FMTTYPE=image/jpeg:https://friendsofmax.info/home/wp-content/uploads/2016/06/Mumbai-GIST-Meet-poster-9th-July-2016-1.jpg
END:VEVENT
BEGIN:VEVENT
DTSTART;TZID=UTC:20160423T100000
DTEND;TZID=UTC:20160423T130000
DTSTAMP:20260421T153752
CREATED:20160416T080356Z
LAST-MODIFIED:20160416T080439Z
UID:1145-1461405600-1461416400@friendsofmax.info
SUMMARY:GIST Support Group Meeting Kolkata
DESCRIPTION:GIST Support Group Meeting at Tata Medical Center Kolkata on 23 April 2016 between 10 am and 1 pm
URL:https://friendsofmax.info/event/gist-support-group-meeting/
LOCATION:Tata Medical Center\, 14\, MAR(E-W)\, DH Block(Newtown)\, Action Area I\, Rajarhat\, New Town\, Kolkota\, West Bengal\, 700156\, India
CATEGORIES:GIST Meet
END:VEVENT
BEGIN:VEVENT
DTSTART;TZID=UTC:20160305T100000
DTEND;TZID=UTC:20160305T130000
DTSTAMP:20260421T153752
CREATED:20160212T013613Z
LAST-MODIFIED:20160212T013613Z
UID:1067-1457172000-1457182800@friendsofmax.info
SUMMARY:GIST Meeting @ Mumbai
DESCRIPTION:TOGETHER WE SHARE AND LEARN\nThe Max Foundation & Friends of Max\nin association with\nTata Memorial Hospital \ninvite all \nGIST survivors & caregivers \nTO THE GIST SUPPORT GROUP MEETING\nIN MUMBAI \nOn\nSaturday\, 5th March 2016\, 10 am to 1 pm \nVENUE\nGolden Jubilee Building\n2nd Floor Lecture Hall \nRustom Choksi Auditorium \nTata Memorial Hospital \nDr. E Borges Road\, Parel \nMumbai \nRSVP\nThe Max Foundation\, Mumbai\n022 66603320/ 21
URL:https://friendsofmax.info/event/gist-meeting-mumbai/
LOCATION:Rustom Choksi Auditorium\, TMH\, Golden Jubilee Building\, 2nd Floor Lecture Hall\, Mumbai\, Maharashtra\, India
CATEGORIES:GIST Meet
ATTACH;FMTTYPE=image/jpeg:https://friendsofmax.info/home/wp-content/uploads/2016/02/GIST_Meeting_banner-tata.jpg
END:VEVENT
BEGIN:VEVENT
DTSTART;TZID=UTC:20160227T100000
DTEND;TZID=UTC:20160227T130000
DTSTAMP:20260421T153752
CREATED:20160208T064145Z
LAST-MODIFIED:20160208T064145Z
UID:1061-1456567200-1456578000@friendsofmax.info
SUMMARY:1st GIST Support Group Meeting @ Hyderabad
DESCRIPTION:TOGETHER WE SHARE AND LEARN\nThe Max Foundation & Friends of Max\nin association with\nBasavatarakam Indo American Cancer Hospital \ninvite all\nGIST survivors \nTO THE\nGIST PATIENT SUPPORT GROUP MEETING\nIN HYDERABAD\nOn\nSaturday\, 27th February 2016\, 10.00 am to 1.00 pm \n\nVENUE\nAuditorium\,\n4th Floor\, Block No-2\,\nBasavatarakam Indo American Cancer Hospital\,\nRoad No 10\, Banjara Hills\,\nHyderabad\, Telangana 500034 \n\nRSVP\nThe Max Foundation:\nMumbai – 022 24932368\nSudha – +91 9959812346 \nFOM-Hyderabad:\nPramod– +91 9885129539\nParveen– +91 9963440225
URL:https://friendsofmax.info/event/1st-gist-support-group-meeting-hyderabad/
LOCATION:Auditorium\,  4th Floor\, Block No-2\,\, Auditorium\,  4th Floor\, Block No-2\, Basavatarakam Indo American Cancer Hospital\, Hyderabad\, Telangana\, 500034\, India
CATEGORIES:GIST Meet
ATTACH;FMTTYPE=image/png:https://friendsofmax.info/home/wp-content/uploads/2016/02/Hyd-GIST-Meet-banner.png
END:VEVENT
END:VCALENDAR