BEGIN:VCALENDAR
VERSION:2.0
PRODID:-//Friends of Max - ECPv6.15.20//NONSGML v1.0//EN
CALSCALE:GREGORIAN
METHOD:PUBLISH
X-ORIGINAL-URL:https://friendsofmax.info
X-WR-CALDESC:Events for Friends of Max
REFRESH-INTERVAL;VALUE=DURATION:PT1H
X-Robots-Tag:noindex
X-PUBLISHED-TTL:PT1H
BEGIN:VTIMEZONE
TZID:UTC
BEGIN:STANDARD
TZOFFSETFROM:+0000
TZOFFSETTO:+0000
TZNAME:UTC
DTSTART:20220101T000000
END:STANDARD
END:VTIMEZONE
BEGIN:VEVENT
DTSTART;TZID=UTC:20230603T090000
DTEND;TZID=UTC:20230603T160000
DTSTAMP:20260422T043019
CREATED:20230525T055342Z
LAST-MODIFIED:20240815T103949Z
UID:6681-1685782800-1685808000@friendsofmax.info
SUMMARY:Patient Support group meet\, Mumbai
DESCRIPTION:The Max Foundation and Friends of Max will be organizing a Support Group meeting for CML and GIST patients and caregivers in Mumbai.\nRequest all those in and around the city to join us and make this meeting a success! \nDate: Saturday\, 3rd June\, 2023\nVenue: Tata Memorial Hospital\, Mumbai\nRustom Choksi Auditorium\, 2nd Floor\, Golden Jubilee Building\, Tata Memorial Hospital\, Parel\, Mumbai 400012\nTiming: 9.00 am to 4.00 pm \nWe are thankful to patient Devasurya from Kerala\, for this amazing artwork featured on the meeting banner.
URL:https://friendsofmax.info/event/%f0%9f%8e%89announcement-%f0%9f%8e%89/
LOCATION:Tata Memorial Hospital Parel Mumbai\, Dr E Borges Road\, Parel\, Mumbai\, Maharashtra\, India
CATEGORIES:CML Meet,GIST Meet
ATTACH;FMTTYPE=image/jpeg:https://friendsofmax.info/home/wp-content/uploads/2023/05/New-MUMBAI-meet-banner-3x6-feet-op-1-1-2.jpg
END:VEVENT
END:VCALENDAR