BEGIN:VCALENDAR
VERSION:2.0
PRODID:-//Friends of Max - ECPv6.15.20//NONSGML v1.0//EN
CALSCALE:GREGORIAN
METHOD:PUBLISH
X-WR-CALNAME:Friends of Max
X-ORIGINAL-URL:https://friendsofmax.info
X-WR-CALDESC:Events for Friends of Max
REFRESH-INTERVAL;VALUE=DURATION:PT1H
X-Robots-Tag:noindex
X-PUBLISHED-TTL:PT1H
BEGIN:VTIMEZONE
TZID:UTC
BEGIN:STANDARD
TZOFFSETFROM:+0000
TZOFFSETTO:+0000
TZNAME:UTC
DTSTART:20220101T000000
END:STANDARD
END:VTIMEZONE
BEGIN:VEVENT
DTSTART;TZID=UTC:20230211T090000
DTEND;TZID=UTC:20230211T160000
DTSTAMP:20260423T054021
CREATED:20230119T023924Z
LAST-MODIFIED:20230119T235644Z
UID:6497-1676106000-1676131200@friendsofmax.info
SUMMARY:Patient Support Group Meet\, Mumbai
DESCRIPTION:The Max Foundation and Friends of Max are organizing a CML and GIST Patient Support Group Meeting at ACTREC\, Kharghar\, Mumbai on Saturday\, 11th February 2023. We request your participation to make this meeting a success. \nVenue: Main Auditorium\, Ground Floor\, Khanolkar Shodhika\, ACTREC\, Sector22\, Kharghar 410210 \nTimings: 9 AM – 4 PM \n \n 
URL:https://friendsofmax.info/event/patient-support-group-meet-mumbai/
LOCATION:Main Auditorium\, Ground Floor\, Khanolkar Shodhika\, ACTREC\, Sector22\, Kharghar 410210\, Main Auditorium\, Ground Floor\, Khanolkar Shodhika\, ACTREC\, Sector22\, Kharghar\, Mumbai\, Maharashtra\, 410210\, India
CATEGORIES:FOM Meet
ATTACH;FMTTYPE=image/jpeg:https://friendsofmax.info/home/wp-content/uploads/2023/01/1-scaled.jpg
END:VEVENT
END:VCALENDAR